BEGIN:VCALENDAR
VERSION:2.0
PRODID:-//CHICAGOLAND PIPE COLLECTORS CLUB - ECPv6.15.12.2//NONSGML v1.0//EN
CALSCALE:GREGORIAN
METHOD:PUBLISH
X-ORIGINAL-URL:https://chicagopipeclub.com
X-WR-CALDESC:Events for CHICAGOLAND PIPE COLLECTORS CLUB
REFRESH-INTERVAL;VALUE=DURATION:PT1H
X-Robots-Tag:noindex
X-PUBLISHED-TTL:PT1H
BEGIN:VTIMEZONE
TZID:America/Chicago
BEGIN:DAYLIGHT
TZOFFSETFROM:-0600
TZOFFSETTO:-0500
TZNAME:CDT
DTSTART:20240310T080000
END:DAYLIGHT
BEGIN:STANDARD
TZOFFSETFROM:-0500
TZOFFSETTO:-0600
TZNAME:CST
DTSTART:20241103T070000
END:STANDARD
BEGIN:DAYLIGHT
TZOFFSETFROM:-0600
TZOFFSETTO:-0500
TZNAME:CDT
DTSTART:20250309T080000
END:DAYLIGHT
BEGIN:STANDARD
TZOFFSETFROM:-0500
TZOFFSETTO:-0600
TZNAME:CST
DTSTART:20251102T070000
END:STANDARD
BEGIN:DAYLIGHT
TZOFFSETFROM:-0600
TZOFFSETTO:-0500
TZNAME:CDT
DTSTART:20260308T080000
END:DAYLIGHT
BEGIN:STANDARD
TZOFFSETFROM:-0500
TZOFFSETTO:-0600
TZNAME:CST
DTSTART:20261101T070000
END:STANDARD
END:VTIMEZONE
BEGIN:VEVENT
DTSTART;TZID=America/Chicago:20251220T170000
DTEND;TZID=America/Chicago:20251220T210000
DTSTAMP:20260424T223120
CREATED:20251130T043435Z
LAST-MODIFIED:20251130T043435Z
UID:2853-1766250000-1766264400@chicagopipeclub.com
SUMMARY:The CPCC Holiday Party
DESCRIPTION:Once again we shall be having our Holiday Party at Arlington Pipe & Cigar Lounge in Arlington Heights\, IL. \nCome out and celebrate the season with club members and friends. Come early as space tends to fill up. \nFood\, Friends and Festivities for active club members and their guests. \nClick on the link to RSVP https://forms.gle/gGae7wVDVDCAZF6z9
URL:https://chicagopipeclub.com/event/the-cpcc-holiday-party/
LOCATION:Arlington Pipe and Cigar Lounge\, 546 W Northwest Hwy\, Arlington Heights\, 60004\, United States
END:VEVENT
END:VCALENDAR