BEGIN:VCALENDAR
VERSION:2.0
PRODID:-//CHICAGOLAND PIPE COLLECTORS CLUB - ECPv6.15.12.2//NONSGML v1.0//EN
CALSCALE:GREGORIAN
METHOD:PUBLISH
X-ORIGINAL-URL:https://chicagopipeclub.com
X-WR-CALDESC:Events for CHICAGOLAND PIPE COLLECTORS CLUB
REFRESH-INTERVAL;VALUE=DURATION:PT1H
X-Robots-Tag:noindex
X-PUBLISHED-TTL:PT1H
BEGIN:VTIMEZONE
TZID:America/Chicago
BEGIN:DAYLIGHT
TZOFFSETFROM:-0600
TZOFFSETTO:-0500
TZNAME:CDT
DTSTART:20220313T080000
END:DAYLIGHT
BEGIN:STANDARD
TZOFFSETFROM:-0500
TZOFFSETTO:-0600
TZNAME:CST
DTSTART:20221106T070000
END:STANDARD
BEGIN:DAYLIGHT
TZOFFSETFROM:-0600
TZOFFSETTO:-0500
TZNAME:CDT
DTSTART:20230312T080000
END:DAYLIGHT
BEGIN:STANDARD
TZOFFSETFROM:-0500
TZOFFSETTO:-0600
TZNAME:CST
DTSTART:20231105T070000
END:STANDARD
BEGIN:DAYLIGHT
TZOFFSETFROM:-0600
TZOFFSETTO:-0500
TZNAME:CDT
DTSTART:20240310T080000
END:DAYLIGHT
BEGIN:STANDARD
TZOFFSETFROM:-0500
TZOFFSETTO:-0600
TZNAME:CST
DTSTART:20241103T070000
END:STANDARD
BEGIN:DAYLIGHT
TZOFFSETFROM:-0600
TZOFFSETTO:-0500
TZNAME:CDT
DTSTART:20250309T080000
END:DAYLIGHT
BEGIN:STANDARD
TZOFFSETFROM:-0500
TZOFFSETTO:-0600
TZNAME:CST
DTSTART:20251102T070000
END:STANDARD
BEGIN:DAYLIGHT
TZOFFSETFROM:-0600
TZOFFSETTO:-0500
TZNAME:CDT
DTSTART:20260308T080000
END:DAYLIGHT
BEGIN:STANDARD
TZOFFSETFROM:-0500
TZOFFSETTO:-0600
TZNAME:CST
DTSTART:20261101T070000
END:STANDARD
END:VTIMEZONE
BEGIN:VEVENT
DTSTART;TZID=America/Chicago:20250621T170000
DTEND;TZID=America/Chicago:20250621T193000
DTSTAMP:20260424T164902
CREATED:20250606T160044Z
LAST-MODIFIED:20250606T160044Z
UID:2815-1750525200-1750534200@chicagopipeclub.com
SUMMARY:CPCC June 2025 PIPE CLUB MEETING
DESCRIPTION:The Chicagoland Pipe Collectors Club’s April 2025 club meeting will officially start at 7pm at Arlington Pipes & Cigars. We recommend you come a few hours early to get a good seat and socialize with other members. If you are not a member yet or curious\, we’d love to have you – attend the meeting for free. Learn more here: Become a CPCC member
URL:https://chicagopipeclub.com/event/cpcc-june-2025-pipe-club-meeting/
LOCATION:Arlington Pipe and Cigar Lounge\, 546 W Northwest Hwy\, Arlington Heights\, 60004\, United States
CATEGORIES:CPCC Pipe Meeting
ATTACH;FMTTYPE=image/jpeg:https://chicagopipeclub.com/wp-content/uploads/2021/05/APC-e1628827529704.jpeg
END:VEVENT
BEGIN:VEVENT
DTSTART;TZID=America/Chicago:20250405T170000
DTEND;TZID=America/Chicago:20250405T193000
DTSTAMP:20260424T164903
CREATED:20250125T210928Z
LAST-MODIFIED:20250323T121305Z
UID:2774-1743872400-1743881400@chicagopipeclub.com
SUMMARY:CPCC April 2025 PIPE CLUB MEETING
DESCRIPTION:The Chicagoland Pipe Collectors Club’s April 2025 club meeting will officially start at 7pm at Arlington Pipes & Cigars. We recommend you come a few hours early to get a good seat and socialize with other members. If you are not a member yet or curious\, we’d love to have you – attend the meeting for free. Learn more here: Become a CPCC member
URL:https://chicagopipeclub.com/event/cpcc-april-2025-pipe-club-meeting/
LOCATION:Arlington Pipe and Cigar Lounge\, 546 W Northwest Hwy\, Arlington Heights\, 60004\, United States
CATEGORIES:CPCC Pipe Meeting
ATTACH;FMTTYPE=image/jpeg:https://chicagopipeclub.com/wp-content/uploads/2021/05/APC-e1628827529704.jpeg
END:VEVENT
BEGIN:VEVENT
DTSTART;TZID=America/Chicago:20250322T170000
DTEND;TZID=America/Chicago:20250322T190000
DTSTAMP:20260424T164903
CREATED:20250125T210743Z
LAST-MODIFIED:20250125T210743Z
UID:2772-1742662800-1742670000@chicagopipeclub.com
SUMMARY:CPCC March 2025 PIPE CLUB MEETING
DESCRIPTION:The Chicagoland Pipe Collectors Club’s March 2025 club meeting will start at 7pm at Arlington Pipes & Cigars. We recommend you come a few hours early to get a good seat and socialize with other members. If you are not a member yet or curious\, we’d love to have you – attend the meeting for free. Learn more here: Become a CPCC member
URL:https://chicagopipeclub.com/event/cpcc-march-2025-pipe-club-meeting/
LOCATION:Arlington Pipe and Cigar Lounge\, 546 W Northwest Hwy\, Arlington Heights\, 60004\, United States
CATEGORIES:CPCC Pipe Meeting
ATTACH;FMTTYPE=image/jpeg:https://chicagopipeclub.com/wp-content/uploads/2021/05/APC-e1628827529704.jpeg
END:VEVENT
BEGIN:VEVENT
DTSTART;TZID=America/Chicago:20250215T170000
DTEND;TZID=America/Chicago:20250215T190000
DTSTAMP:20260424T164903
CREATED:20250125T210632Z
LAST-MODIFIED:20250125T210632Z
UID:2770-1739638800-1739646000@chicagopipeclub.com
SUMMARY:CPCC Feb 2025 PIPE CLUB MEETING
DESCRIPTION:The Chicagoland Pipe Collectors Club’s Feb 2025 club meeting will start at 7pm at Arlington Pipes & Cigars. We recommend you come a few hours early to get a good seat and socialize with other members. If you are not a member yet or curious\, we’d love to have you – attend the meeting for free. Learn more here: Become a CPCC member
URL:https://chicagopipeclub.com/event/cpcc-feb-2025-pipe-club-meeting/
LOCATION:Arlington Pipe and Cigar Lounge\, 546 W Northwest Hwy\, Arlington Heights\, 60004\, United States
CATEGORIES:CPCC Pipe Meeting
ATTACH;FMTTYPE=image/jpeg:https://chicagopipeclub.com/wp-content/uploads/2021/05/APC-e1628827529704.jpeg
END:VEVENT
BEGIN:VEVENT
DTSTART;TZID=America/Chicago:20250118T180000
DTEND;TZID=America/Chicago:20250118T193000
DTSTAMP:20260424T164903
CREATED:20250108T030328Z
LAST-MODIFIED:20250108T030328Z
UID:2767-1737223200-1737228600@chicagopipeclub.com
SUMMARY:CPCC Jan 2025 PIPE CLUB MEETING
DESCRIPTION:The Chicagoland Pipe Collectors Club’s Jan 2025 club meeting will start at 7pm at Arlington Pipes & Cigars. We recommend you come a few hours early to get a good seat and socialize with other members. If you are not a member yet or curious\, we’d love to have you – attend the meeting for free. Learn more here: Become a CPCC member
URL:https://chicagopipeclub.com/event/cpcc-jan-2025-pipe-club-meeting/
LOCATION:Arlington Pipe and Cigar Lounge\, 546 W Northwest Hwy\, Arlington Heights\, 60004\, United States
CATEGORIES:CPCC Pipe Meeting
ATTACH;FMTTYPE=image/jpeg:https://chicagopipeclub.com/wp-content/uploads/2021/05/APC-e1628827529704.jpeg
END:VEVENT
BEGIN:VEVENT
DTSTART;TZID=America/Chicago:20241214T170000
DTEND;TZID=America/Chicago:20241214T210000
DTSTAMP:20260424T164903
CREATED:20241021T233130Z
LAST-MODIFIED:20241021T233221Z
UID:2760-1734195600-1734210000@chicagopipeclub.com
SUMMARY:CPCC Dec 2024 Holiday Party
DESCRIPTION:The Chicagoland Pipe Collectors Club’s Dec 2024 holiday party will start at 5pm at Arlington Pipes & Cigars. Club members need to RSVP ahead of time. The RSVP link can be found in your monthly minutes minutes email.
URL:https://chicagopipeclub.com/event/cpcc-dec-2024-holiday-party/
LOCATION:Arlington Pipe and Cigar Lounge\, 546 W Northwest Hwy\, Arlington Heights\, 60004\, United States
CATEGORIES:CPCC Pipe Meeting
ATTACH;FMTTYPE=image/jpeg:https://chicagopipeclub.com/wp-content/uploads/2021/05/APC-e1628827529704.jpeg
END:VEVENT
BEGIN:VEVENT
DTSTART;TZID=America/Chicago:20241019T180000
DTEND;TZID=America/Chicago:20241019T193000
DTSTAMP:20260424T164903
CREATED:20240923T005430Z
LAST-MODIFIED:20240923T005430Z
UID:2751-1729360800-1729366200@chicagopipeclub.com
SUMMARY:CPCC Oct 2024 PIPE CLUB MEETING
DESCRIPTION:The Chicagoland Pipe Collectors Club’s Oct 2024 club meeting will start at 7pm at Arlington Pipes & Cigars. We recommend you come a few hours early to get a good seat and socialize with other members. If you are not a member yet or curious\, we’d love to have you – attend the meeting for free. Learn more here: Become a CPCC member
URL:https://chicagopipeclub.com/event/cpcc-oct-2024-pipe-club-meeting/
LOCATION:Arlington Pipe and Cigar Lounge\, 546 W Northwest Hwy\, Arlington Heights\, 60004\, United States
CATEGORIES:CPCC Pipe Meeting
ATTACH;FMTTYPE=image/jpeg:https://chicagopipeclub.com/wp-content/uploads/2021/05/APC-e1628827529704.jpeg
END:VEVENT
BEGIN:VEVENT
DTSTART;TZID=America/Chicago:20240720T180000
DTEND;TZID=America/Chicago:20240720T200000
DTSTAMP:20260424T164903
CREATED:20240507T122315Z
LAST-MODIFIED:20240507T122344Z
UID:2745-1721498400-1721505600@chicagopipeclub.com
SUMMARY:CPCC July 2024 PIPE CLUB MEETING
DESCRIPTION:The Chicagoland Pipe Collectors Club’s July 2024 club meeting will start at 7pm at Arlington Pipes & Cigars. We recommend you come a few hours early to get a good seat and socialize with other members. If you are not a member yet or curious\, we’d love to have you – attend the meeting for free. Learn more here: Become a CPCC member
URL:https://chicagopipeclub.com/event/cpcc-july-2024-pipe-club-meeting/
LOCATION:Arlington Pipe and Cigar Lounge\, 546 W Northwest Hwy\, Arlington Heights\, 60004\, United States
CATEGORIES:CPCC Pipe Meeting
ATTACH;FMTTYPE=image/jpeg:https://chicagopipeclub.com/wp-content/uploads/2021/05/APC-e1628827529704.jpeg
END:VEVENT
BEGIN:VEVENT
DTSTART;TZID=America/Chicago:20240608T180000
DTEND;TZID=America/Chicago:20240608T200000
DTSTAMP:20260424T164903
CREATED:20240507T122208Z
LAST-MODIFIED:20240507T122337Z
UID:2743-1717869600-1717876800@chicagopipeclub.com
SUMMARY:CPCC June 2024 PIPE CLUB MEETING
DESCRIPTION:The Chicagoland Pipe Collectors Club’s June 2024 club meeting will start at 7pm at Arlington Pipes & Cigars. We recommend you come a few hours early to get a good seat and socialize with other members. If you are not a member yet or curious\, we’d love to have you – attend the meeting for free. Learn more here: Become a CPCC member
URL:https://chicagopipeclub.com/event/cpcc-june-2024-pipe-club-meeting/
LOCATION:Arlington Pipe and Cigar Lounge\, 546 W Northwest Hwy\, Arlington Heights\, 60004\, United States
CATEGORIES:CPCC Pipe Meeting
ATTACH;FMTTYPE=image/jpeg:https://chicagopipeclub.com/wp-content/uploads/2021/05/APC-e1628827529704.jpeg
END:VEVENT
BEGIN:VEVENT
DTSTART;TZID=America/Chicago:20240504T180000
DTEND;TZID=America/Chicago:20240504T200000
DTSTAMP:20260424T164903
CREATED:20240420T010714Z
LAST-MODIFIED:20240420T010714Z
UID:2734-1714845600-1714852800@chicagopipeclub.com
SUMMARY:CPCC May 2024 PIPE CLUB MEETING
DESCRIPTION:The Chicagoland Pipe Collectors Club’s May 2024 club meeting will start at 7pm at Arlington Pipes & Cigars. We recommend you come a few hours early to get a good seat and socialize with other members. If you are not a member yet or curious\, we’d love to have you – attend the meeting for free. Learn more here: Become a CPCC member
URL:https://chicagopipeclub.com/event/cpcc-may-2024-pipe-club-meeting/
LOCATION:Arlington Pipe and Cigar Lounge\, 546 W Northwest Hwy\, Arlington Heights\, 60004\, United States
CATEGORIES:CPCC Pipe Meeting
ATTACH;FMTTYPE=image/jpeg:https://chicagopipeclub.com/wp-content/uploads/2021/05/APC-e1628827529704.jpeg
END:VEVENT
BEGIN:VEVENT
DTSTART;TZID=America/Chicago:20240309T190000
DTEND;TZID=America/Chicago:20240309T193000
DTSTAMP:20260424T164903
CREATED:20240122T051839Z
LAST-MODIFIED:20240122T051839Z
UID:2725-1710010800-1710012600@chicagopipeclub.com
SUMMARY:CPCC March 2024 PIPE CLUB MEETING
DESCRIPTION:The Chicagoland Pipe Collectors Club’s March 2024 club meeting will start at 7pm at Arlington Pipes & Cigars. We recommend you come a few hours early to get a good seat and socialize with other members. If you are not a member yet or curious\, we’d love to have you – attend the meeting for free. Learn more here: Become a CPCC member
URL:https://chicagopipeclub.com/event/cpcc-march-2024-pipe-club-meeting/
LOCATION:Arlington Pipe and Cigar Lounge\, 546 W Northwest Hwy\, Arlington Heights\, 60004\, United States
CATEGORIES:CPCC Pipe Meeting
ATTACH;FMTTYPE=image/jpeg:https://chicagopipeclub.com/wp-content/uploads/2021/05/APC-e1628827529704.jpeg
END:VEVENT
BEGIN:VEVENT
DTSTART;TZID=America/Chicago:20240217T190000
DTEND;TZID=America/Chicago:20240217T193000
DTSTAMP:20260424T164903
CREATED:20240122T051714Z
LAST-MODIFIED:20240122T051852Z
UID:2723-1708196400-1708198200@chicagopipeclub.com
SUMMARY:CPCC February 2024 PIPE CLUB MEETING
DESCRIPTION:The Chicagoland Pipe Collectors Club’s Feb 2024 club meeting will start at 7pm at Arlington Pipes & Cigars. We recommend you come a few hours early to get a good seat and socialize with other members. If you are not a member yet or curious\, we’d love to have you – attend the meeting for free. Learn more here: Become a CPCC member
URL:https://chicagopipeclub.com/event/cpcc-february-2024-pipe-club-meeting/
LOCATION:Arlington Pipe and Cigar Lounge\, 546 W Northwest Hwy\, Arlington Heights\, 60004\, United States
CATEGORIES:CPCC Pipe Meeting
ATTACH;FMTTYPE=image/jpeg:https://chicagopipeclub.com/wp-content/uploads/2021/05/APC-e1628827529704.jpeg
END:VEVENT
BEGIN:VEVENT
DTSTART;TZID=America/Chicago:20240120T180000
DTEND;TZID=America/Chicago:20240120T193000
DTSTAMP:20260424T164903
CREATED:20231220T194942Z
LAST-MODIFIED:20240111T223404Z
UID:2717-1705773600-1705779000@chicagopipeclub.com
SUMMARY:CPCC January 2024 PIPE CLUB MEETING
DESCRIPTION:The Chicagoland Pipe Collectors Club’s Jan 2024 club meeting will start at 7pm at Arlington Pipes & Cigars. We recommend you come early to get a good seat and socialize with other members. If you are not a member yet or curious\, we’d love to have you – attend the meeting for free. Learn more here: Become a CPCC member
URL:https://chicagopipeclub.com/event/cpcc-january-2024-pipe-club-meeting/
LOCATION:Arlington Pipe and Cigar Lounge\, 546 W Northwest Hwy\, Arlington Heights\, 60004\, United States
CATEGORIES:CPCC Pipe Meeting
ATTACH;FMTTYPE=image/jpeg:https://chicagopipeclub.com/wp-content/uploads/2021/05/APC-e1628827529704.jpeg
END:VEVENT
BEGIN:VEVENT
DTSTART;TZID=America/Chicago:20231104T190000
DTEND;TZID=America/Chicago:20231104T200000
DTSTAMP:20260424T164903
CREATED:20230814T030004Z
LAST-MODIFIED:20230814T030004Z
UID:2693-1699124400-1699128000@chicagopipeclub.com
SUMMARY:CPCC November 2023 PIPE CLUB MEETING
DESCRIPTION:The Chicagoland Pipe Collectors Club’s November 2023 club meeting will start at 7pm at Arlington Pipes & Cigars. We recommend you come early to get a good seat and socialize with other members. If you are not a member yet or curious\, we’d love to have you – attend the meeting for free. Learn more here: Become a CPCC member
URL:https://chicagopipeclub.com/event/cpcc-november-2023-pipe-club-meeting/
LOCATION:Arlington Pipe and Cigar Lounge\, 546 W Northwest Hwy\, Arlington Heights\, 60004\, United States
CATEGORIES:CPCC Pipe Meeting
ATTACH;FMTTYPE=image/jpeg:https://chicagopipeclub.com/wp-content/uploads/2021/05/APC-e1628827529704.jpeg
END:VEVENT
BEGIN:VEVENT
DTSTART;TZID=America/Chicago:20231021T190000
DTEND;TZID=America/Chicago:20231021T200000
DTSTAMP:20260424T164903
CREATED:20230929T170354Z
LAST-MODIFIED:20230929T170354Z
UID:2700-1697914800-1697918400@chicagopipeclub.com
SUMMARY:CPCC October 2023 PIPE CLUB MEETING
DESCRIPTION:The Chicagoland Pipe Collectors Club’s October 2023 club meeting will start at 7pm at Arlington Pipes & Cigars. We recommend you come early to get a good seat and socialize with other members. If you are not a member yet or curious\, we’d love to have you – attend the meeting for free. Learn more here: Become a CPCC member
URL:https://chicagopipeclub.com/event/cpcc-october-2023-pipe-club-meeting/
LOCATION:Arlington Pipe and Cigar Lounge\, 546 W Northwest Hwy\, Arlington Heights\, 60004\, United States
CATEGORIES:CPCC Pipe Meeting
ATTACH;FMTTYPE=image/jpeg:https://chicagopipeclub.com/wp-content/uploads/2021/05/APC-e1628827529704.jpeg
END:VEVENT
BEGIN:VEVENT
DTSTART;TZID=America/Chicago:20230916T190000
DTEND;TZID=America/Chicago:20230916T200000
DTSTAMP:20260424T164903
CREATED:20230814T025826Z
LAST-MODIFIED:20230814T025826Z
UID:2690-1694890800-1694894400@chicagopipeclub.com
SUMMARY:CPCC SEPTEMBER 2023 PIPE CLUB MEETING
DESCRIPTION:The Chicagoland Pipe Collectors Club’s September 2023 club meeting will start at 7pm at Arlington Pipes & Cigars. We recommend you come early to get a good seat and socialize with other members. If you are not a member yet or curious\, we’d love to have you – attend the meeting for free. Learn more here: Become a CPCC member
URL:https://chicagopipeclub.com/event/cpcc-september-2023-pipe-club-meeting/
LOCATION:Arlington Pipe and Cigar Lounge\, 546 W Northwest Hwy\, Arlington Heights\, 60004\, United States
CATEGORIES:CPCC Pipe Meeting
ATTACH;FMTTYPE=image/jpeg:https://chicagopipeclub.com/wp-content/uploads/2021/05/APC-e1628827529704.jpeg
END:VEVENT
BEGIN:VEVENT
DTSTART;TZID=America/Chicago:20230812T190000
DTEND;TZID=America/Chicago:20230812T200000
DTSTAMP:20260424T164903
CREATED:20230716T173844Z
LAST-MODIFIED:20230716T173844Z
UID:2687-1691866800-1691870400@chicagopipeclub.com
SUMMARY:CPCC August 2023 PIPE CLUB MEETING
DESCRIPTION:The Chicagoland Pipe Collectors Club’s August 2023 club meeting will start at 7pm at Arlington Pipes & Cigars. We recommend you come early to get a good seat and socialize with other members. If you are not a member yet or curious\, we’d love to have you – attend the meeting for free. Learn more here: Become a CPCC member
URL:https://chicagopipeclub.com/event/cpcc-august-2023-pipe-club-meeting/
LOCATION:Arlington Pipe and Cigar Lounge\, 546 W Northwest Hwy\, Arlington Heights\, 60004\, United States
CATEGORIES:CPCC Pipe Meeting
ATTACH;FMTTYPE=image/jpeg:https://chicagopipeclub.com/wp-content/uploads/2021/05/APC-e1628827529704.jpeg
END:VEVENT
BEGIN:VEVENT
DTSTART;TZID=America/Chicago:20230715T190000
DTEND;TZID=America/Chicago:20230715T200000
DTSTAMP:20260424T164903
CREATED:20230410T205712Z
LAST-MODIFIED:20230514T000917Z
UID:2672-1689447600-1689451200@chicagopipeclub.com
SUMMARY:CPCC July 2023 PIPE CLUB MEETING
DESCRIPTION:The Chicagoland Pipe Collectors Club’s July 2023 club meeting will start at 7pm at Arlington Pipes & Cigars. We recommend you come early to get a good seat and socialize with other members. If you are not a member yet or curious\, we’d love to have you – attend the meeting for free. Learn more here: Become a CPCC member
URL:https://chicagopipeclub.com/event/cpcc-july-2023-pipe-club-meeting/
LOCATION:Arlington Pipe and Cigar Lounge\, 546 W Northwest Hwy\, Arlington Heights\, 60004\, United States
CATEGORIES:CPCC Pipe Meeting
ATTACH;FMTTYPE=image/jpeg:https://chicagopipeclub.com/wp-content/uploads/2021/05/APC-e1628827529704.jpeg
END:VEVENT
BEGIN:VEVENT
DTSTART;TZID=America/Chicago:20230610T190000
DTEND;TZID=America/Chicago:20230610T200000
DTSTAMP:20260424T164903
CREATED:20230410T205549Z
LAST-MODIFIED:20230410T205742Z
UID:2670-1686423600-1686427200@chicagopipeclub.com
SUMMARY:CPCC June 2023 PIPE CLUB MEETING
DESCRIPTION:The Chicagoland Pipe Collectors Club’s June 2023 club meeting will start at 7pm at Arlington Pipes & Cigars. We recommend you come early to get a good seat and socialize with other members. If you are not a member yet or curious\, we’d love to have you – attend the meeting for free. Learn more here: Become a CPCC member
URL:https://chicagopipeclub.com/event/cpcc-june-2023-pipe-club-meeting/
LOCATION:Arlington Pipe and Cigar Lounge\, 546 W Northwest Hwy\, Arlington Heights\, 60004\, United States
CATEGORIES:CPCC Pipe Meeting
ATTACH;FMTTYPE=image/jpeg:https://chicagopipeclub.com/wp-content/uploads/2021/05/APC-e1628827529704.jpeg
END:VEVENT
BEGIN:VEVENT
DTSTART;TZID=America/Chicago:20230513T190000
DTEND;TZID=America/Chicago:20230513T200000
DTSTAMP:20260424T164903
CREATED:20230410T205043Z
LAST-MODIFIED:20230410T205750Z
UID:2666-1684004400-1684008000@chicagopipeclub.com
SUMMARY:CPCC May 2023 PIPE CLUB MEETING
DESCRIPTION:The Chicagoland Pipe Collectors Club’s May 2023 club meeting will start at 7pm at the Humidor of Westmont. We recommend you come early to get a good seat and socialize with other members. If you are not a member yet or curious\, we’d love to have you – attend the meeting for free. Learn more here: Become a CPCC member
URL:https://chicagopipeclub.com/event/cpcc-may-2023-pipe-club-meeting/
LOCATION:Humidor of Westmont\, 225 E Ogden Avenue\, Westmont\, IL\, 60559\, United States
CATEGORIES:CPCC Pipe Meeting
END:VEVENT
BEGIN:VEVENT
DTSTART;TZID=America/Chicago:20230408T190000
DTEND;TZID=America/Chicago:20230408T200000
DTSTAMP:20260424T164903
CREATED:20230312T183341Z
LAST-MODIFIED:20230312T183449Z
UID:2625-1680980400-1680984000@chicagopipeclub.com
SUMMARY:CPCC April 2023 PIPE CLUB MEETING
DESCRIPTION:The Chicagoland Pipe Collectors Club’s April 2023 club meeting will start at 7pm at Arlington Pipes & Cigars. We recommend you come early to get a good seat and socialize with other members. If you are not a member yet or curious\, we’d love to have you – attend the meeting for free. Learn more here: Become a CPCC member
URL:https://chicagopipeclub.com/event/cpcc-april-2023-pipe-club-meeting/
LOCATION:Arlington Pipe and Cigar Lounge\, 546 W Northwest Hwy\, Arlington Heights\, 60004\, United States
CATEGORIES:CPCC Pipe Meeting
ATTACH;FMTTYPE=image/jpeg:https://chicagopipeclub.com/wp-content/uploads/2021/05/APC-e1628827529704.jpeg
END:VEVENT
BEGIN:VEVENT
DTSTART;TZID=America/Chicago:20230311T190000
DTEND;TZID=America/Chicago:20230311T200000
DTSTAMP:20260424T164903
CREATED:20230217T020209Z
LAST-MODIFIED:20230217T020209Z
UID:2620-1678561200-1678564800@chicagopipeclub.com
SUMMARY:CPCC March 2023 PIPE CLUB MEETING
DESCRIPTION:The March 2023 club meeting will be starting at 7pm at Arlington Pipes & Cigars.
URL:https://chicagopipeclub.com/event/cpcc-march-2023-pipe-club-meeting/
LOCATION:Arlington Pipe and Cigar Lounge\, 546 W Northwest Hwy\, Arlington Heights\, 60004\, United States
CATEGORIES:CPCC Pipe Meeting
ATTACH;FMTTYPE=image/jpeg:https://chicagopipeclub.com/wp-content/uploads/2021/05/APC-e1628827529704.jpeg
END:VEVENT
BEGIN:VEVENT
DTSTART;TZID=America/Chicago:20230211T190000
DTEND;TZID=America/Chicago:20230211T200000
DTSTAMP:20260424T164903
CREATED:20230122T191529Z
LAST-MODIFIED:20230122T191934Z
UID:2606-1676142000-1676145600@chicagopipeclub.com
SUMMARY:CPCC February 2023 PIPE CLUB MEETING
DESCRIPTION:The Feb 2023 club meeting will be starting at 7pm at Arlington Pipes & Cigars.
URL:https://chicagopipeclub.com/event/cpcc-february-2023-pipe-club-meeting/
LOCATION:Arlington Pipe and Cigar Lounge\, 546 W Northwest Hwy\, Arlington Heights\, 60004\, United States
CATEGORIES:CPCC Pipe Meeting
ATTACH;FMTTYPE=image/jpeg:https://chicagopipeclub.com/wp-content/uploads/2021/05/APC-e1628827529704.jpeg
END:VEVENT
BEGIN:VEVENT
DTSTART;TZID=America/Chicago:20230121T190000
DTEND;TZID=America/Chicago:20230121T200000
DTSTAMP:20260424T164903
CREATED:20221211T174130Z
LAST-MODIFIED:20221211T174733Z
UID:2562-1674327600-1674331200@chicagopipeclub.com
SUMMARY:CPCC Jan 2023 PIPE CLUB MEETING
DESCRIPTION:The Jan 2023 club meeting will be starting at 7pm at Arlington Pipes & Cigars.
URL:https://chicagopipeclub.com/event/cpcc-jan-2023-pipe-club-meeting/
LOCATION:Arlington Pipe and Cigar Lounge\, 546 W Northwest Hwy\, Arlington Heights\, 60004\, United States
CATEGORIES:CPCC Pipe Meeting
ATTACH;FMTTYPE=image/jpeg:https://chicagopipeclub.com/wp-content/uploads/2021/05/APC-e1628827529704.jpeg
END:VEVENT
END:VCALENDAR